BEGIN:VCALENDAR
VERSION:2.0
CALSCALE:GREGORIAN
PRODID:-//MyApp//Calendar 1.0//EN
BEGIN:VEVENT
METHOD:PUBLISH
UID:63524@regionalniportaly.cz
DTSTAMP:20260422T085331Z
DTSTART;VALUE=DATE:20260311
DTEND;VALUE=DATE:20260312
SUMMARY:Šviháci - komedie
DESCRIPTION:Ondřej\, Filip a Dan každoročně zpestřují pobyt lázeňským hostům svou hudbou. Tentokrát se však jejich jindy poklidný pobyt nečekaně vymkne kontrole. Dojde k odhalení tajemství\, které jeden z nich dlouho skrýval.\n \nVstupné: 100 KčVstupenky v předprodeji online nebo půl hodiny před filmem.\n \nPřístupnost 12+ / 2026 / Česko / komedie / Režie: Braňo Mišík / délka: 100min.  Tři kamarádi Dan (Martin Pechlát)\, Ondřej (Tomáš Jeřábek) a Filip (Daniel Fischer) se pravidelně setkávají ve vyhlášených lázních\, kde jejich kapela Šviháci baví místní hosty a oni si zároveň užívají společnou pánskou jízdu. Všechno by šlo podle plánu\, kdyby se najednou neprovalilo\, že jeden z nich má v lázních sedmiletého utajeného syna\, o kterého se musí neplánovaně postarat. Místo užívání si\, se ze šviháků během okamžiku stávají otcové na plný úvazek. O tom\, co se právě děje v lázních\, nic netuší Danova milující manželka ani Ondřejova žárlivá partnerka. Zatím... Nová komedie od tvůrců kinohitu Nikdy neříkej nikdy slibuje zábavu\, ale také příběh o lásce\, přátelství i (ne)zodpovědnosti a exkluzivní hosty v podobě Heleny Vondráčkové\, která si se Šviháky zazpívá legendární Dlouhou noc\, a Tatiany Drexler\, od níž dostanou speciální lekci.\n změna programu vyhrazena 
LOCATION:Strážnice
END:VEVENT
END:VCALENDAR