BEGIN:VCALENDAR
VERSION:2.0
CALSCALE:GREGORIAN
PRODID:-//MyApp//Calendar 1.0//EN
BEGIN:VEVENT
METHOD:PUBLISH
UID:63525@regionalniportaly.cz
DTSTAMP:20260422T191904Z
DTSTART;VALUE=DATE:20260311
DTEND;VALUE=DATE:20260312
SUMMARY:Silent Hill: Noční můry
DESCRIPTION:Filmové zpracování kultovní hororové franšízy je zpět! A napjatě očekávaný návrat do postapokalyptického pekla i labyrintu vlastních nočních můr bude ještě děsivější a trýznivější.\n \nVstupné: 150 KčVstupenky v předprodeji online nebo půl hodiny před filmem.\n \nPřístupnost 15+ / 2026 / USA\, Velká Británie\, Francie / horor / titulky / Režie: Christophe Gans Filmové zpracování kultovní hororové franšízy je zpět! A napjatě očekávaný návrat do postapokalyptického pekla i labyrintu vlastních nočních můr bude ještě děsivější a trýznivější. Když James obdrží tajemný dopis od své ztracené lásky Mary\, táhne ho to zpět do Silent Hill. Město\, jak ho oba znali\, se ale změnilo. Propadlo se do temnoty. James se tak musí při pátrání po Mary postavit nejen ikonickým stvůrám\, ale i svým vlastním démonům\, což ho dohání až na pokraj šílenství. Strach a smrt jsou všudypřítomné. Představa\, že ztratí lásku svého života\, je ale ještě hrozivější.\nzměna programu vyhrazena
LOCATION:Strážnice
END:VEVENT
END:VCALENDAR