BEGIN:VCALENDAR
VERSION:2.0
CALSCALE:GREGORIAN
PRODID:-//MyApp//Calendar 1.0//EN
BEGIN:VEVENT
METHOD:PUBLISH
UID:63529@regionalniportaly.cz
DTSTAMP:20260421T220958Z
DTSTART;VALUE=DATE:20260329
DTEND;VALUE=DATE:20260330
SUMMARY:Rodina k pronájmu
DESCRIPTION:V Tokiu si lidé mohou pronajmout členy rodiny. Když americký osamělý herec (Brendan Fraser) nastoupí do této zvláštní agentury\, netuší\, že právě falešné vztahy mu nejvíc změní život...\n \nVstupné: 150 KčVstupenky v předprodeji online nebo půl hodiny před filmem.\n \nPřístupný / 2026 / USA / komedie / titulky / Režie: HikariFilm RODINA K PRONÁJMU (Rental Family) se odehrává v současném Tokiu a vypráví příběh amerického herce (Brendan Fraser)\, který se snaží najít smysl života\, až narazí na neobvyklou práci: pracuje pro japonskou agenturu\, která zprostředkovává „pronájem rodin“ a kde hraje roli náhradníků pro cizí lidi. Jak se ponořuje do světů svých klientů\, začíná si vytvářet skutečné vazby\, které stírají hranice mezi hraním a realitou. Tváří v tvář morální složitosti své práce\, sám znovuobjevuje smysl života\, pocit sounáležitosti a krásu lidských vztahů.\nzměna programu vyhrazena
LOCATION:Strážnice
END:VEVENT
END:VCALENDAR