BEGIN:VCALENDAR
VERSION:2.0
CALSCALE:GREGORIAN
PRODID:-//MyApp//Calendar 1.0//EN
BEGIN:VEVENT
METHOD:PUBLISH
UID:63530@regionalniportaly.cz
DTSTAMP:20260422T040546Z
DTSTART;VALUE=DATE:20260331
DTEND;VALUE=DATE:20260401
SUMMARY:Nečekané léto
DESCRIPTION:Před dětskou vynalézavostí neobstojí žádné plány dospělých. To zjistí i Denisa (Bára Poláková)\, když její pečlivě připravovaná cesta na italské pobřeží záhy končí v zapadlém českém kempu. Zatímco se urputně snaží vrátit vše do původních kolejí\, obě její děti si rychle najdou cestu k Petrovi (Jordan Haj)\, který těch pár lesních chatek v romantickém zákoutí..\n \nVstupné: 150 KčVstupenky v předprodeji online nebo půl hodiny před filmem.\n \nPřístupný / PREMIÉRA / Česko / komedie\, rodinný / Režie: Milan CieslarPřed dětskou vynalézavostí neobstojí žádné plány dospělých. To zjistí i Denisa (Bára Poláková)\, když její pečlivě připravovaná cesta na italské pobřeží záhy končí v zapadlém českém kempu. Zatímco se urputně snaží vrátit vše do původních kolejí\, obě její děti si rychle najdou cestu k Petrovi (Jordan Haj)\, který těch pár lesních chatek v romantickém zákoutí Svatojánských proudů nedobrovolně spravuje. Spolu s ratolestmi početné a kempováním ostřílené rodiny Petráskových (Linda Rybová a Jiří Vyorálek) tak zažívají nejen nečekaná prázdninová dobrodružství\, ale úspěšně hatí jak svůj odjezd\, tak i Denisiny životní plány. Svým nemalým dílem k tomu přispějí i dva stárnoucí trampové (Petr Čtvrtníček a Leoš Noha) a svérázní Petrovi rodiče (Zuzana Mauréry a Jaroslav Dušek). Zkrátka\, když se vám všechny plány hroutí jeden za druhým\, není už načase přestat plánovat?\nzměna programu vyhrazena
LOCATION:Strážnice
END:VEVENT
END:VCALENDAR