BEGIN:VCALENDAR
VERSION:2.0
CALSCALE:GREGORIAN
PRODID:-//MyApp//Calendar 1.0//EN
BEGIN:VEVENT
METHOD:PUBLISH
UID:63621@regionalniportaly.cz
DTSTAMP:20260420T152620Z
DTSTART;VALUE=DATE:20261120
DTEND;VALUE=DATE:20261121
SUMMARY:Talk show 7 pádů Honzy Dědka v Hodoníně
DESCRIPTION:Talk show 7 pádů Honzy Dědka v Hodoníně
LOCATION:Hodonín
END:VEVENT
END:VCALENDAR