BEGIN:VCALENDAR
VERSION:2.0
CALSCALE:GREGORIAN
PRODID:-//MyApp//Calendar 1.0//EN
BEGIN:VEVENT
METHOD:PUBLISH
UID:64986@regionalniportaly.cz
DTSTAMP:20260419T133357Z
DTSTART;VALUE=DATE:20260713
DTEND;VALUE=DATE:20260821
SUMMARY:Příměstský tábor Veselá věda
DESCRIPTION:
LOCATION:Újezd u Brna
END:VEVENT
END:VCALENDAR