BEGIN:VCALENDAR
VERSION:2.0
CALSCALE:GREGORIAN
PRODID:-//MyApp//Calendar 1.0//EN
BEGIN:VEVENT
METHOD:PUBLISH
UID:65648@regionalniportaly.cz
DTSTAMP:20260420T162609Z
DTSTART;VALUE=DATE:20260530
DTEND;VALUE=DATE:20260531
SUMMARY:Dušan Vlk na Míru
DESCRIPTION:Dušan Vlk je rapper\, ktorý sa radí do vlny "punk/emo-rapových" umelcov\, ktorí v posledných rokoch začali vykukovať spod útrob československého undergroundu. Často v skladbách používaným pseudonymom Prešovské knieža Dušan naráža na svoj východoslovenský pôvod\, používa ponuré\, melancholické a temné inštrumentály\, ktoré zväčša produkuje jeho najlepší kamarát David a nebojí sa v skladbách otvárať hlbšie\, osobné\, ale aj spoločenské témy. Žánrovo si chlapci v čiernom mantinely nekladú\, no zvuk prechádza filtrom LO-FI estetiky\, bez ohľadu na jeho tempo\, alebo bežné sub-žánrové zaradenie.Support: ACYD | Unorganized DistructureAfterparty: Neugasse 836
LOCATION:Uherské Hradiště
END:VEVENT
END:VCALENDAR