BEGIN:VCALENDAR
VERSION:2.0
CALSCALE:GREGORIAN
PRODID:-//MyApp//Calendar 1.0//EN
BEGIN:VEVENT
METHOD:PUBLISH
UID:65699@regionalniportaly.cz
DTSTAMP:20260421T190927Z
DTSTART;VALUE=DATE:20261030
DTEND;VALUE=DATE:20261031
SUMMARY:Zdeněk Izer\, Vyndavací zas tam dací
DESCRIPTION:Známý bavič\, komik a imitátor&nbsp\;ZDENĚK IZER&nbsp\;přijede za Vámi do Velké nad Veličkou&nbsp\;30. října 2026&nbsp\;od 19 h se svou zábavnou talk show. Tak si ji nenechte&nbsp\;ujít!&nbsp\;&nbsp\;&nbsp\;&nbsp\;&nbsp\;&nbsp\;&nbsp\;&nbsp\;&nbsp\;&nbsp\;&nbsp\;&nbsp\;&nbsp\;&nbsp\;&nbsp\;&nbsp\;&nbsp\;&nbsp\;&nbsp\;&nbsp\;&nbsp\;&nbsp\;&nbsp\;&nbsp\;&nbsp\;&nbsp\;&nbsp\;&nbsp\;&nbsp\;&nbsp\;&nbsp\;&nbsp\;&nbsp\;&nbsp\;&nbsp\;&nbsp\; „VYNDAVACÍ A&nbsp\;ZAS TAM DACÍ“!Pořad\, ve kterém se diváci budou moci setkat s&nbsp\;jedinečným a nezaměnitelným humorem. Jako vždy přijdou na řadu oblíbené zábavné scénky\, parodie a mnoho skvělých vtipů. Vystoupení je opět obohacené videoprojekcemi\, nejrůznějšími zábavnými kostýmy\, převleky a světelnými efekty.Jeho vystoupení bývají beznadějně předem vyprodaná\, tak doporučujeme zajistit si vstupenky včas!
LOCATION:Velká nad Veličkou
END:VEVENT
END:VCALENDAR