BEGIN:VCALENDAR
VERSION:2.0
CALSCALE:GREGORIAN
PRODID:-//MyApp//Calendar 1.0//EN
BEGIN:VEVENT
METHOD:PUBLISH
UID:65726@regionalniportaly.cz
DTSTAMP:20260421T204838Z
DTSTART;VALUE=DATE:20260510
DTEND;VALUE=DATE:20260511
SUMMARY:Loupežník - komediální drama
DESCRIPTION:Divadelní spolek bratří Mrštíků Boleradice uvádí svoji nejnovější inscenaci v režii Ivy Kahounové. \nV neděli 10. května  v 17 hodin zveme na komediální drama Karla Čapka Loupežník. Přijďte se podívat na nestárnoucí příběh o střetu dravého mládí s opatrným stářím a o tom\, co všechno se může stát\, když do poklidného života vtrhne láska. Vstupenky je možné koupit on line\, v předprodeji v pátek od 18 do 19 hodin nebo před začátkem představení v pokladně divadla.\nDARUJTE VSTUPENKY KE SVÁTKU MATEK 
LOCATION:Boleradice
END:VEVENT
END:VCALENDAR