BEGIN:VCALENDAR
VERSION:2.0
CALSCALE:GREGORIAN
PRODID:-//MyApp//Calendar 1.0//EN
BEGIN:VEVENT
METHOD:PUBLISH
UID:65822@regionalniportaly.cz
DTSTAMP:20260424T105828Z
DTSTART;VALUE=DATE:20260430
DTEND;VALUE=DATE:20260501
SUMMARY:Ďábel nosí Pradu 2
DESCRIPTION:Téměř 20 let po svém ikonickém ztvárnění postav Mirandy\, Andy\, Emily a Nigela se Meryl Streep\, Anne Hathaway\, Emily Blunt a Stanley Tucci vrací do módních ulic New Yorku a elegantních kanceláří časopisu Runway v netrpělivě očekávaném pokračování fenoménu z roku 2006\, který zasáhl\, ovlinil a definoval celou generaci. Film opět spojuje původní hlavní obsazení s režisérem Davidem Frankelem a scenáristkou Aline Brosh McKenna a představuje zcela nové postavy\, mezi nimiž jsou Kenneth Branagh\, Simone Ashley\, Justin Theroux\, Lucy Liu\, Patrick Brammall\, Caleb Hearon\, Helen J. Shen\, Pauline Chalamet\, B.J. Novak a Conrad Ricamora. Navíc se Tracie Thoms a Tibor Feldman vrací ke svým rolím „Lily“ a „Irva“ z prvního filmu. změna programu vyhrazena\n \nPřístupný / PREMIÉRA / USA / komedie / dabing / Režie: David Frankel\n \nVstupné: 160 \,-Vstupenky v předprodeji online nebo půl hodiny před filmem v kině Svět Strážnice.
LOCATION:Strážnice
END:VEVENT
END:VCALENDAR