BEGIN:VCALENDAR
VERSION:2.0
CALSCALE:GREGORIAN
PRODID:-//MyApp//Calendar 1.0//EN
BEGIN:VEVENT
METHOD:PUBLISH
UID:65823@regionalniportaly.cz
DTSTAMP:20260424T105903Z
DTSTART;VALUE=DATE:20260502
DTEND;VALUE=DATE:20260503
SUMMARY:Hurvínkova cesta do Tramtárie
DESCRIPTION:Hurvínek slaví 100 let\, dárek má pro všechnyLegendárnímu Hurvínkovi je letos sto! \nDo starého železa\, nebo spíš dřeva se ale rozhodně nechystá. Ke svým kulatinám si nadělil nové filmové dobrodružství. Tentokrát se s Máničkou vypraví až do daleké Tramtárie\, kde musí zachránit nejen čtyřnohého kamaráda Žeryka\, kterého má v plánu povečeřet mlsná masožravka\, ale také napravit porouchaný koloběh vody. Aby mohli kápnout na to\, proč v království zavládlo ničivé sucho\, je potřeba pochopit\, jak to v přírodě funguje. A takové poznání se může hodit nejen jim\, ale i všem malý a velkým divákům.  \n \nzměna programu vyhrazena \n \nPřístupný / PREMIÉRA / Česko / pohádka / Režie: Martin Klásek\, Vojtěch Frič \n \nVstupné: 150 \,-Vstupenky v předprodeji online nebo půl hodiny před filmem v kině Svět Strážnice.
LOCATION:Strážnice
END:VEVENT
END:VCALENDAR