BEGIN:VCALENDAR
VERSION:2.0
CALSCALE:GREGORIAN
PRODID:-//MyApp//Calendar 1.0//EN
BEGIN:VEVENT
METHOD:PUBLISH
UID:65827@regionalniportaly.cz
DTSTAMP:20260424T105926Z
DTSTART;VALUE=DATE:20260520
DTEND;VALUE=DATE:20260521
SUMMARY:Iron Maiden: Burning Ambition
DESCRIPTION:Heavy metal = Iron Maiden. Legendární kapela\, která na scéně působí už padesát let a stále patří k nejvlivnějším hudebním tělesům\, zve své fanoušky na nezapomenutelný filmový výlet\, hudební dokument Iron Maiden: Burning Ambition.\nPřed padesáti lety začínali hrát po hospodách východního Londýna a postupně se propracovali na ta největší světová pódia. Na nich se udrželi dodnes. Kapela Iron Maiden právem patří k největším legendám heavy metalu s milióny fanoušků po celém světě. Tvůrci dokumentu Iron Maiden: Burning Ambition získali přístup k obrovskému množství archivních materiálů\, ze kterého vytvořili film\, jehož shlédnutí je povinností pro všechny\, kdo je mají rádi. Průvodci minulostí a současností kapely jsou v něm ti nejpovolanější\, tedy její bývalí a současní členové\, ale také slavní fanoušci jako herec Javier Bardem nebo Lars Ulrich (Metallica)\, Tom Morello (Rage Against the Machine)\, Scott Ian (Anthrax) a další. Nebyl by to ale správný hudební dokument\, kdyby v něm nebyla i spousta muziky. Dobré\, tvrdé\, metalové. Ve filmu zazní většina pro kapelu klíčových skladeb a tvůrci nezapomněli ani na slavného maskota kapely Eddieho v originálních animovaných sekvencích.„Náš film je především o vytrvalosti. Vytrvalosti\, s jakou se kapela odmítala podřizovat měnícím se hudebním trendům a navzdory tomu rostla rodina jejích fanoušků\, kteří prostřednictvím Iron Maiden a její muziky nacházeli svou identitu a pravá přátelství\,“ říká režisér dokumentu Malcolm Venville.\nzměna programu vyhrazena\n \nPřístupnost 12+ / PREMIÉRA / USA / hudební dokument / titulky / Režie: Malcolm Venville \nVstupné: 160 \,-Vstupenky v předprodeji online nebo půl hodiny před filmem v kině Svět Strážnice. \n 
LOCATION:Strážnice
END:VEVENT
END:VCALENDAR