BEGIN:VCALENDAR
VERSION:2.0
CALSCALE:GREGORIAN
PRODID:-//MyApp//Calendar 1.0//EN
BEGIN:VEVENT
METHOD:PUBLISH
UID:65828@regionalniportaly.cz
DTSTAMP:20260424T100040Z
DTSTART;VALUE=DATE:20260521
DTEND;VALUE=DATE:20260522
SUMMARY:Ucpanej systém - Dejvické divadlo
DESCRIPTION:Adaptace povídek The Acid House Irvina Welshe v kultovní inscenaci Dejvického divadla zpátky v kinech! Přímý přenos derniéry vidělo v kinech přes 33 0000 diváků. Nyní se ikonické představení vrací v remasterovaném záznamu s lepším zvukem i obrazem exkluzivně 8. dubna 2026.\nzměna programu vyhrazena\n \nPřístupnost 15+ / 2026 / Česko / záznam kultovního hitu Dejvického divadla / \n \nVstupné: 350 \,-Vstupenky v předprodeji online nebo půl hodiny před filmem v kině Svět Strážnice. 
LOCATION:Strážnice
END:VEVENT
END:VCALENDAR