BEGIN:VCALENDAR
VERSION:2.0
CALSCALE:GREGORIAN
PRODID:-//MyApp//Calendar 1.0//EN
BEGIN:VEVENT
METHOD:PUBLISH
UID:65834@regionalniportaly.cz
DTSTAMP:20260424T065827Z
DTSTART;VALUE=DATE:20260501
DTEND;VALUE=DATE:20260502
SUMMARY:Odemykání Baťova kanálu
DESCRIPTION:Hodonín se opět stane centrem vodní turistiky.\nTradiční odemykání Baťova kanálu letos v pátek 1. května nabídne výjimečný zážitek – slavnostní zahájení plavební sezóny bude spojeno se zprovozněním nové plavební komory Rohatec – Sudoměřice\, která napojí Hodonín na Baťův kanál. Návštěvníci se tak mohou těšit nejen na bohatý doprovodný program\, ale i na jedinečnou možnost proplout tímto novým technickým dílem.
LOCATION:Hodonín
END:VEVENT
END:VCALENDAR