BEGIN:VCALENDAR
VERSION:2.0
CALSCALE:GREGORIAN
PRODID:-//MyApp//Calendar 1.0//EN
BEGIN:VEVENT
METHOD:PUBLISH
UID:65901@regionalniportaly.cz
DTSTAMP:20260425T102451Z
DTSTART;VALUE=DATE:20260826
DTEND;VALUE=DATE:20260827
SUMMARY:Grande Moravia - Love Story
DESCRIPTION:Po úspěšném loňském koncertu na zámku i letos zveme na výjimečný večer plný emocí – Grande Moravia Ladislava Pavluše – Love Story.Romantický večer pod hvězdami v nádherném prostředí zámecké zahrady vás zahalí do tónů romantických melodií a písní z celého světa. Nechte se unést krásou hlasů Elišky Trtíkové\, Márii Bikarové\, Leony Klempárové a Lucie Bikárové.Grande Moravia Ladislava Pavluše -&nbsp\;30členný orchestr\, který jako jediný ve své interpretaci používá cimbál\, rozezní prostor nezaměnitelným zvukem plným vášně i něhy.Kapacita je omezena – nejvýhodnější vstupenky právě teď.
LOCATION:Milotice
END:VEVENT
END:VCALENDAR